BEGIN:VCALENDAR
VERSION:2.0
PRODID:-//Blunter Brothers - ECPv6.15.20//NONSGML v1.0//EN
CALSCALE:GREGORIAN
METHOD:PUBLISH
X-WR-CALNAME:Blunter Brothers
X-ORIGINAL-URL:https://www.blunterbrothers.co.uk
X-WR-CALDESC:Events for Blunter Brothers
REFRESH-INTERVAL;VALUE=DURATION:PT1H
X-Robots-Tag:noindex
X-PUBLISHED-TTL:PT1H
BEGIN:VTIMEZONE
TZID:Europe/London
BEGIN:DAYLIGHT
TZOFFSETFROM:+0000
TZOFFSETTO:+0100
TZNAME:BST
DTSTART:20140330T010000
END:DAYLIGHT
BEGIN:STANDARD
TZOFFSETFROM:+0100
TZOFFSETTO:+0000
TZNAME:GMT
DTSTART:20141026T010000
END:STANDARD
BEGIN:DAYLIGHT
TZOFFSETFROM:+0000
TZOFFSETTO:+0100
TZNAME:BST
DTSTART:20150329T010000
END:DAYLIGHT
BEGIN:STANDARD
TZOFFSETFROM:+0100
TZOFFSETTO:+0000
TZNAME:GMT
DTSTART:20151025T010000
END:STANDARD
BEGIN:DAYLIGHT
TZOFFSETFROM:+0000
TZOFFSETTO:+0100
TZNAME:BST
DTSTART:20160327T010000
END:DAYLIGHT
BEGIN:STANDARD
TZOFFSETFROM:+0100
TZOFFSETTO:+0000
TZNAME:GMT
DTSTART:20161030T010000
END:STANDARD
BEGIN:DAYLIGHT
TZOFFSETFROM:+0000
TZOFFSETTO:+0100
TZNAME:BST
DTSTART:20170326T010000
END:DAYLIGHT
BEGIN:STANDARD
TZOFFSETFROM:+0100
TZOFFSETTO:+0000
TZNAME:GMT
DTSTART:20171029T010000
END:STANDARD
END:VTIMEZONE
BEGIN:VEVENT
DTSTART;TZID=Europe/London:20161023T113000
DTEND;TZID=Europe/London:20161023T140000
DTSTAMP:20260422T030025
CREATED:20160907T131907Z
LAST-MODIFIED:20160907T131907Z
UID:488-1477222200-1477231200@www.blunterbrothers.co.uk
SUMMARY:L’escargots Trois at Trading Boundaries
DESCRIPTION:L’escargots Trois play Jazz and Easy Listening at Trading Boundaries Sunday 23rd October. \n11.30am – 2.00pm. Free Entry. \nGreat Sunday Brunch menu and friendly atmosphere too!
URL:https://www.blunterbrothers.co.uk/event/lescargots-trois-trading-boundaries-8/
LOCATION:Trading Boundaries\, Shefield Green\, TN22 3RB\, United Kingdom
ATTACH;FMTTYPE=image/jpeg:https://www.blunterbrothers.co.uk/wp-content/uploads/2016/01/lescargot-Big-G-promo-small.jpg
END:VEVENT
BEGIN:VEVENT
DTSTART;TZID=Europe/London:20161015T200000
DTEND;TZID=Europe/London:20161015T235500
DTSTAMP:20260422T030025
CREATED:20160531T225633Z
LAST-MODIFIED:20160907T130347Z
UID:470-1476561600-1476575700@www.blunterbrothers.co.uk
SUMMARY:Blunter Brothers at Forest Row Social Club
DESCRIPTION:Pleased to be invited back. Great club\, great bar prices. \nTickets £10 on the door\, £7 members. Get there early!  \nDoors 8.00pm – 12.00 midnight
URL:https://www.blunterbrothers.co.uk/event/blunter-brothers-forest-row-social-club/
LOCATION:East Sussex
END:VEVENT
BEGIN:VEVENT
DTSTART;TZID=Europe/London:20160821T130000
DTEND;TZID=Europe/London:20160821T150000
DTSTAMP:20260422T030025
CREATED:20160518T141451Z
LAST-MODIFIED:20160518T141451Z
UID:455-1471784400-1471791600@www.blunterbrothers.co.uk
SUMMARY:L'escargots Trois at the Carfax Horsham
DESCRIPTION:L’escargots Trois play Jazz Standards\, Latin Jazz and Easy Listening at the Carfax on the bandstand in Horsham town centre. Special guest jazz drummer Dan Allsopp! It’s free so come along and enjoy the day.
URL:https://www.blunterbrothers.co.uk/event/lescargots-trois-carfax-horsham/
LOCATION:East Sussex
ATTACH;FMTTYPE=image/jpeg:https://www.blunterbrothers.co.uk/wp-content/uploads/2016/05/lescargots-dan-promo-mid.jpg
END:VEVENT
BEGIN:VEVENT
DTSTART;TZID=Europe/London:20160805T200000
DTEND;TZID=Europe/London:20160805T235500
DTSTAMP:20260422T030025
CREATED:20160518T140434Z
LAST-MODIFIED:20160518T140620Z
UID:454-1470427200-1470441300@www.blunterbrothers.co.uk
SUMMARY:Blunter Brothers at Ravenswood Inn
DESCRIPTION:The Blunter Brothers are happy to announce the next date at Ravenswood. Our ‘home gig’ and always great fun. Book your ticket in advance by calling Dave on 07810038357.  \nIt’s got to be FUNKY!
URL:https://www.blunterbrothers.co.uk/event/blunter-brothers-ravenswood-inn-2/
LOCATION:Ravenswood Inn\, Horsted Lane\, Sharpthorne\, RH19 4HY\, United Kingdom
END:VEVENT
BEGIN:VEVENT
DTSTART;TZID=Europe/London:20160731T133000
DTEND;TZID=Europe/London:20160731T170000
DTSTAMP:20260422T030025
CREATED:20160518T135726Z
LAST-MODIFIED:20160518T135726Z
UID:451-1469971800-1469984400@www.blunterbrothers.co.uk
SUMMARY:L’escargots Trois at Selsdon Park Hotel
DESCRIPTION:While away a Sunday afternoon listening to the sounds of the Jazz era whilst enjoying classic afternoon tea. Call the event team on 020 8657 8811 to find out more and book. 
URL:https://www.blunterbrothers.co.uk/event/lescargots-trois-selsdon-park-hotel-2/
LOCATION:Selsdon Park Hotel\, Addington Road\, Sanderstead\, South Croydon\, CR2 8YA\, United Kingdom
END:VEVENT
BEGIN:VEVENT
DTSTART;TZID=Europe/London:20160724T113000
DTEND;TZID=Europe/London:20160724T140000
DTSTAMP:20260422T030025
CREATED:20160518T134814Z
LAST-MODIFIED:20160518T134814Z
UID:450-1469359800-1469368800@www.blunterbrothers.co.uk
SUMMARY:L’escargots Trois at Trading Boundaries
DESCRIPTION:L’escargots Trois play Jazz standards and Easy Listening. Free entry. Trading Boundaries. Great Brunch menu. Supporting Live Music
URL:https://www.blunterbrothers.co.uk/event/lescargots-trois-trading-boundaries-5/
LOCATION:Trading Boundaries\, Shefield Green\, TN22 3RB\, United Kingdom
ATTACH;FMTTYPE=image/jpeg:https://www.blunterbrothers.co.uk/wp-content/uploads/2016/01/lescargot-Big-G-promo-small.jpg
END:VEVENT
BEGIN:VEVENT
DTSTART;TZID=Europe/London:20160716T200000
DTEND;TZID=Europe/London:20160716T223000
DTSTAMP:20260422T030025
CREATED:20160518T010612Z
LAST-MODIFIED:20160527T144153Z
UID:448-1468699200-1468708200@www.blunterbrothers.co.uk
SUMMARY:Blunter Brothers at Ashstock Festival
DESCRIPTION:The Blunter Brothers have been invited to Headline Ashstock 2016. \nSaturday 16th July. John Pears Recreational Ground\, Wall Hill\, Ashurst Wood RH19 3TQ.   \nFree event (they ask you to purchase the Event Program). Mid day to 10.30pm.   \nBlunter Brothers on stage at 8pm.  \nEvent organised by Ashurst Wood Village Council   \nhttp://www.ashurstwood-vc.gov.uk/past-events/ashstock-2014-2/  \nTake a look here for Info from the Maypole Inn   \nhttps://www.facebook.com/events/1684077348533576/?active_tab=highlights.   \nPlenty of fun things to do all day!
URL:https://www.blunterbrothers.co.uk/event/blunter-brothers-ashstock-festival/
LOCATION:East Sussex
END:VEVENT
BEGIN:VEVENT
DTSTART;TZID=Europe/London:20160626T200000
DTEND;TZID=Europe/London:20160626T210000
DTSTAMP:20260422T030025
CREATED:20160518T005606Z
LAST-MODIFIED:20160518T133629Z
UID:447-1466971200-1466974800@www.blunterbrothers.co.uk
SUMMARY:Blunter Brothers at Epsom & Ewell Arts Festival
DESCRIPTION:The Blunter Brothers have been invited to Headline the Epsom & Ewell Arts Festival MGSO4.  \nSunday 26th June. Derby Square Live Stage. http://www.mgso4festival.org for more info.  \nFree event.
URL:https://www.blunterbrothers.co.uk/event/blunter-brothers-epsom-ewell-arts-festival/
LOCATION:East Sussex
ATTACH;FMTTYPE=image/jpeg:https://www.blunterbrothers.co.uk/wp-content/uploads/2016/05/MGS04.jpg
END:VEVENT
BEGIN:VEVENT
DTSTART;VALUE=DATE:20160514
DTEND;VALUE=DATE:20160516
DTSTAMP:20260422T030025
CREATED:20160129T013433Z
LAST-MODIFIED:20160418T161205Z
UID:388-1463205600-1463291999@www.blunterbrothers.co.uk
SUMMARY:Blunter Brothers at Loxwood Festival
DESCRIPTION:Invited to headline. We’re on stage at 10pm. \nGreat day! Gates open at 1pm. Lots of bands\, lots of Beers. What’s not to like! \nAll the info you need is here: http://www.loxwoodbeerfestival.com/
URL:https://www.blunterbrothers.co.uk/event/blunter-brothers-at-loxwood-festival/
LOCATION:East Sussex
ATTACH;FMTTYPE=image/jpeg:https://www.blunterbrothers.co.uk/wp-content/uploads/2016/01/LBF16-Ad-and-Poster.jpg
END:VEVENT
BEGIN:VEVENT
DTSTART;TZID=Europe/London:20160429T200000
DTEND;TZID=Europe/London:20160429T235500
DTSTAMP:20260422T030025
CREATED:20160129T012627Z
LAST-MODIFIED:20160129T012627Z
UID:385-1461960000-1461974100@www.blunterbrothers.co.uk
SUMMARY:Blunter Brothers at Ravenswood Inn
DESCRIPTION:After a great return in December 2015 which sold out the Blunter Brothers are pleased to announce the first date in 2016 back at our ‘home’ gig.\nReserve your tickets. Call Dave on 07810038357
URL:https://www.blunterbrothers.co.uk/event/blunter-brothers-at-ravenswood-inn/
LOCATION:Ravenswood Inn\, Horsted Lane\, Sharpthorne\, RH19 4HY\, United Kingdom
ATTACH;FMTTYPE=image/jpeg:https://www.blunterbrothers.co.uk/wp-content/uploads/2016/01/poster-Rav-2016.jpg
END:VEVENT
BEGIN:VEVENT
DTSTART;TZID=Europe/London:20160416T193000
DTEND;TZID=Europe/London:20160417T020000
DTSTAMP:20260422T030025
CREATED:20160129T011627Z
LAST-MODIFIED:20160130T155626Z
UID:384-1460835000-1460858400@www.blunterbrothers.co.uk
SUMMARY:Blunter Brothers return to Reading Jazz Cafe
DESCRIPTION:Back by popular demand
URL:https://www.blunterbrothers.co.uk/event/blunter-brothers-return-to-reading-jazz-cafe/
LOCATION:Reading Jazz Cafe\, Madejski Stadium\, Reading\, RG2 0FL\, United Kingdom
ATTACH;FMTTYPE=image/jpeg:https://www.blunterbrothers.co.uk/wp-content/uploads/2016/01/Poster-Jazz-Cafe-april-2016.jpg
END:VEVENT
BEGIN:VEVENT
DTSTART;TZID=Europe/London:20160312T193000
DTEND;TZID=Europe/London:20160312T223000
DTSTAMP:20260422T030025
CREATED:20160122T001601Z
LAST-MODIFIED:20160122T001601Z
UID:309-1457811000-1457821800@www.blunterbrothers.co.uk
SUMMARY:Blunter Brothers at Clair Hall
DESCRIPTION:Back by popular demand.\nFeaturing a support slot by the Fabulous BB Horns.\nIt’s got to be Funky!
URL:https://www.blunterbrothers.co.uk/event/blunter-brothers-at-clair-hall/
LOCATION:Clair Hall\, Perrymount Road\, Haywards Heath\, RH16 3DN\, United Kingdom
ATTACH;FMTTYPE=image/jpeg:https://www.blunterbrothers.co.uk/wp-content/uploads/2016/01/poster-Clair-Hall-2016.jpg
END:VEVENT
BEGIN:VEVENT
DTSTART;TZID=Europe/London:20160220T193000
DTEND;TZID=Europe/London:20160221T020000
DTSTAMP:20260422T030025
CREATED:20160121T234545Z
LAST-MODIFIED:20160121T235044Z
UID:306-1455996600-1456020000@www.blunterbrothers.co.uk
SUMMARY:Blunter Brothers at Reading Jazz Cafe
DESCRIPTION:Late night Funk for our Berkshire friends.\nTickets £39.50 with dinner (7.30pm).\n£10 entry only.\nBook in advance 01189 681442
URL:https://www.blunterbrothers.co.uk/event/blunter-brothers-at-reading-jazz-cafe/
LOCATION:Reading Jazz Cafe\, Madejski Stadium\, Reading\, RG2 0FL\, United Kingdom
ATTACH;FMTTYPE=image/jpeg:https://www.blunterbrothers.co.uk/wp-content/uploads/2016/01/Poster-Jazz-Cafe-2016.jpg
END:VEVENT
BEGIN:VEVENT
DTSTART;TZID=Europe/London:20160213T193000
DTEND;TZID=Europe/London:20160214T010000
DTSTAMP:20260422T030025
CREATED:20160119T174116Z
LAST-MODIFIED:20160121T235559Z
UID:288-1455391800-1455411600@www.blunterbrothers.co.uk
SUMMARY:Blunter Brothers at Felbridge Hotel & Spa
DESCRIPTION:Great Venue!\nA gig for the Lovers. Tickets £22.50 pp (Includes Cocktail on arrival) Doors 7.30pm – 1.00am.
URL:https://www.blunterbrothers.co.uk/event/blunter-brothers-at-felbridge-hotel-spa/
LOCATION:Crowne Plaza Felbridge\, London Rd\,\, East Grinstead\, West Sussex\, RH19 2BH\, United Kingdom
ATTACH;FMTTYPE=image/jpeg:https://www.blunterbrothers.co.uk/wp-content/uploads/2016/01/poster-Felbridge-2016.jpg
END:VEVENT
BEGIN:VEVENT
DTSTART;TZID=Europe/London:20151231T190000
DTEND;TZID=Europe/London:20160101T020000
DTSTAMP:20260422T030025
CREATED:20151218T192345Z
LAST-MODIFIED:20151218T192345Z
UID:212-1451588400-1451613600@www.blunterbrothers.co.uk
SUMMARY:Blunter Brothers
DESCRIPTION:
URL:https://www.blunterbrothers.co.uk/event/blunter-brothers/
LOCATION:Balcombe Club\, Blacombe\, RH17 6HP\, United Kingdom
END:VEVENT
END:VCALENDAR