BEGIN:VCALENDAR
VERSION:2.0
PRODID:-//Blunter Brothers - ECPv6.15.20//NONSGML v1.0//EN
CALSCALE:GREGORIAN
METHOD:PUBLISH
X-WR-CALNAME:Blunter Brothers
X-ORIGINAL-URL:https://www.blunterbrothers.co.uk
X-WR-CALDESC:Events for Blunter Brothers
REFRESH-INTERVAL;VALUE=DURATION:PT1H
X-Robots-Tag:noindex
X-PUBLISHED-TTL:PT1H
BEGIN:VTIMEZONE
TZID:Europe/London
BEGIN:DAYLIGHT
TZOFFSETFROM:+0000
TZOFFSETTO:+0100
TZNAME:BST
DTSTART:20160327T010000
END:DAYLIGHT
BEGIN:STANDARD
TZOFFSETFROM:+0100
TZOFFSETTO:+0000
TZNAME:GMT
DTSTART:20161030T010000
END:STANDARD
BEGIN:DAYLIGHT
TZOFFSETFROM:+0000
TZOFFSETTO:+0100
TZNAME:BST
DTSTART:20170326T010000
END:DAYLIGHT
BEGIN:STANDARD
TZOFFSETFROM:+0100
TZOFFSETTO:+0000
TZNAME:GMT
DTSTART:20171029T010000
END:STANDARD
BEGIN:DAYLIGHT
TZOFFSETFROM:+0000
TZOFFSETTO:+0100
TZNAME:BST
DTSTART:20180325T010000
END:DAYLIGHT
BEGIN:STANDARD
TZOFFSETFROM:+0100
TZOFFSETTO:+0000
TZNAME:GMT
DTSTART:20181028T010000
END:STANDARD
BEGIN:DAYLIGHT
TZOFFSETFROM:+0000
TZOFFSETTO:+0100
TZNAME:BST
DTSTART:20190331T010000
END:DAYLIGHT
BEGIN:STANDARD
TZOFFSETFROM:+0100
TZOFFSETTO:+0000
TZNAME:GMT
DTSTART:20191027T010000
END:STANDARD
BEGIN:DAYLIGHT
TZOFFSETFROM:+0000
TZOFFSETTO:+0100
TZNAME:BST
DTSTART:20200329T010000
END:DAYLIGHT
BEGIN:STANDARD
TZOFFSETFROM:+0100
TZOFFSETTO:+0000
TZNAME:GMT
DTSTART:20201025T010000
END:STANDARD
END:VTIMEZONE
BEGIN:VEVENT
DTSTART;TZID=Europe/London:20190622T130000
DTEND;TZID=Europe/London:20190622T223000
DTSTAMP:20260421T105654
CREATED:20190228T004554Z
LAST-MODIFIED:20190228T004554Z
UID:858-1561208400-1561242600@www.blunterbrothers.co.uk
SUMMARY:Blunter Brothers play the Big Gig 19 Horsham
DESCRIPTION:Very happy to be invited back to the Big Gig 19 at Horsham Sports Club. \nFind all the details and tickets here: \nhttps://www.eventbrite.co.uk/e/the-big-gig-19-horsham-tribute-music-festival-tickets-52043509538 \nEven more info : \nThe Big Gig ’19
URL:https://www.blunterbrothers.co.uk/event/blunter-brothers-play-the-big-gig-19-horsham/
LOCATION:Horsham Sports Club\, Cricketfield Road\, Horsham\, RH12 1TE\, United Kingdom
ATTACH;FMTTYPE=image/jpeg:https://www.blunterbrothers.co.uk/wp-content/uploads/2019/02/Big-Gig-19.jpg
END:VEVENT
BEGIN:VEVENT
DTSTART;TZID=Europe/London:20190405T190000
DTEND;TZID=Europe/London:20190405T230000
DTSTAMP:20260421T105654
CREATED:20190228T003011Z
LAST-MODIFIED:20190228T003011Z
UID:855-1554490800-1554505200@www.blunterbrothers.co.uk
SUMMARY:Blunter Brothers Plus support at Horsham Sports Club
DESCRIPTION:The Blunter Brothers return to Horsham Sports Club. \nThis time they bring a support act too! \nThe BB Horns will present a mix of 98% Funk and 2% Jazz Instrumentals before the Blunter Brothers deliver all your favourite Funky covers. \nTickets available on line here (£13.16 inc booking fee): \nhttps://blunterbrothershsc6.eventbrite.co.uk\nOr directly from the club office or bar . £12\n \nSee you there!
URL:https://www.blunterbrothers.co.uk/event/blunter-brothers-plus-support-at-horsham-sports-club/
LOCATION:Horsham Sports Club\, Cricketfield Road\, Horsham\, RH12 1TE\, United Kingdom
ATTACH;FMTTYPE=image/jpeg:https://www.blunterbrothers.co.uk/wp-content/uploads/2019/02/Poster-Horsham-Sports-2019.jpg
END:VEVENT
BEGIN:VEVENT
DTSTART;TZID=Europe/London:20190307T193000
DTEND;TZID=Europe/London:20190307T230000
DTSTAMP:20260421T105654
CREATED:20190227T215536Z
LAST-MODIFIED:20190227T215536Z
UID:849-1551987000-1551999600@www.blunterbrothers.co.uk
SUMMARY:BB Horns play Nambucca London N7 6LB
DESCRIPTION:Something different! \nIf you heard the BB Horns supporting the Blunter Brothers at a recent gig and fancy some more\, here’s something for you. \nSupporting a James Brown influenced Funk band called Lickin Stick at North London venue Nambucca \n596 Holloway Rd\, London N7 6LB. Doors 7.45pm til late. Call the venue for ticket details on 0207 5610 815
URL:https://www.blunterbrothers.co.uk/event/bb-horns-play-nambucca-london-n7-6lb/
LOCATION:Nambucca\, 596 Holloway Rd\, London\, N7 6LB\, United Kingdom
ATTACH;FMTTYPE=image/jpeg:https://www.blunterbrothers.co.uk/wp-content/uploads/2019/02/lickin-stick-BB.jpg
END:VEVENT
BEGIN:VEVENT
DTSTART;TZID=Europe/London:20190216T200000
DTEND;TZID=Europe/London:20190217T000000
DTSTAMP:20260421T105654
CREATED:20181025T233141Z
LAST-MODIFIED:20181025T235532Z
UID:793-1550347200-1550361600@www.blunterbrothers.co.uk
SUMMARY:Blunter Brothers play Ravenswood Inn
DESCRIPTION:The Blunter Brothers return to this great venue. Supported by the BB Horns so you get a 98% funky 2% jazzy instrumental set and then the Blunter Brothers bringing you all your favourite Funky Covers. What’s not to like! Tickets £12 (£13.16 including booking fee) available online. \nhttps://blunterbrothersrav1.eventbrite.co.uk \n  \n  \n 
URL:https://www.blunterbrothers.co.uk/event/blunter-brothers-play-ravenswood-inn/
LOCATION:Ravenswood Inn\, Horsted Lane\, Sharpthorne\, RH19 4HY\, United Kingdom
ATTACH;FMTTYPE=image/jpeg:https://www.blunterbrothers.co.uk/wp-content/uploads/2018/10/Poster-Ravenswood-2018.jpg
END:VEVENT
BEGIN:VEVENT
DTSTART;TZID=Europe/London:20181102T190000
DTEND;TZID=Europe/London:20181102T230000
DTSTAMP:20260421T105654
CREATED:20180828T003236Z
LAST-MODIFIED:20181025T231312Z
UID:774-1541185200-1541199600@www.blunterbrothers.co.uk
SUMMARY:Blunter Brothers and Guests at Horsham Sports Club
DESCRIPTION:The Blunter Brothers return to their favourite Horsham Venue. \nAlways sells out so best get your tickets early. \nThis time they bring a support act too! \nThe BB Horns will present a mix of 98% Funk and 2% Jazzy Instrumentals before the Blunter Brothers deliver all your favourite Funky covers. \nTickets available from the venue office or bar (cash only) or online \nhere: https://blunterbrothershsc4.eventbrite.co.uk
URL:https://www.blunterbrothers.co.uk/event/blunter-brothers-and-guests-at-horsham-sports-club/
LOCATION:Horsham Sports Club\, Cricketfield Road\, Horsham\, RH12 1TE\, United Kingdom
ATTACH;FMTTYPE=image/jpeg:https://www.blunterbrothers.co.uk/wp-content/uploads/2018/10/PosterHorshamSports2018-SO.jpg
END:VEVENT
BEGIN:VEVENT
DTSTART;TZID=Europe/London:20181027T200000
DTEND;TZID=Europe/London:20181028T000000
DTSTAMP:20260421T105654
CREATED:20180828T001950Z
LAST-MODIFIED:20180828T001950Z
UID:771-1540670400-1540684800@www.blunterbrothers.co.uk
SUMMARY:Blunter Brothers at Forest Row Social Club
DESCRIPTION:The Blunter Brothers return to this great venue. Always a full house so get tickets early to avoid disappointment. \nSupported by the BB Horns so you get a 98% funky 2% jazzy instrumental set and then the Blunter Brothers bringing you all your favourite Funky Covers. What’s not to like! \nTickets £20 (£15 for members) available from the club.
URL:https://www.blunterbrothers.co.uk/event/blunter-brothers-at-forest-row-social-club/
LOCATION:Forest Row Social Club\, Station Road\, Forest Row\, East Sussex\, RH18 5DW\, United Kingdom
ATTACH;FMTTYPE=image/jpeg:https://www.blunterbrothers.co.uk/wp-content/uploads/2018/08/Forest-Row-2018-jpeg-2.jpg
END:VEVENT
BEGIN:VEVENT
DTSTART;TZID=Europe/London:20180616T140000
DTEND;TZID=Europe/London:20180616T223000
DTSTAMP:20260421T105654
CREATED:20180419T221025Z
LAST-MODIFIED:20180419T221025Z
UID:730-1529157600-1529188200@www.blunterbrothers.co.uk
SUMMARY:The Big Gig 18
DESCRIPTION:THE BIG GIG – HORSHAM TRIBUTE MUSIC FESTIVAL\, Sat 16 June 2018. 2.00 pm – 10.30pm (Gates open 1.30pm)\n \nAlongside the live music will be plenty of fun festival activities including bouncy inflatable’s\, children’s rides\, glitter festival paint\, yummy street food (courtesy of some of Horsham Market’s favourites)\, a large variety of specialist drinks tents featuring local ales and a fully licensed bar.\nThe community of Horsham and beyond will get to enjoy live music from another collaboration of superb tribute bands\, covering the likes of Michael Jackson\, Little Mix and Queen. The festival features local bands\, Flairz\, who will kick off the event with their Glam Rock hits\, as well as the very popular Blunter Brothers delivering Motown and Funk classics from the greats including Stevie Wonder and James Brown.\nThe Big Gig is the perfect day out for the whole family; Advance Standard Adult Ticket Price: £20.00. Advance Standard Tweenager Ticket Price: £15.00. Children under 10 are FREE. 2pm – 10.30pm (Gates open: 1.30pm)\nTickets are available online at www.horshamsportsclub.com or in cash direct from Horsham Sports Club office or bar\, Cricketfield Road. Tel: 01403 254628.\nTo keep up-to-date with news and activity about The Big Gig\, follow the hashtag #thebiggighorsham\, on Facebook @biggighorsham and on Twitter @biggighorsham.\n 
URL:https://www.blunterbrothers.co.uk/event/the-big-gig-18/
ATTACH;FMTTYPE=image/jpeg:https://www.blunterbrothers.co.uk/wp-content/uploads/2018/04/logo.jpg
END:VEVENT
BEGIN:VEVENT
DTSTART;TZID=Europe/London:20180527T080000
DTEND;TZID=Europe/London:20180527T170000
DTSTAMP:20260421T105654
CREATED:20180417T000004Z
LAST-MODIFIED:20180417T000004Z
UID:726-1527408000-1527440400@www.blunterbrothers.co.uk
SUMMARY:L’escargots Trois at Trading Boundaries
DESCRIPTION:L’escargots Trois play Jazz and Easy Listening at Trading Boundaries Sunday 27th May. 11.30am – 2.00pm. Free Entry. Great Sunday Brunch menu and friendly atmosphere!
URL:https://www.blunterbrothers.co.uk/event/lescargots-trois-at-trading-boundaries-3/
ATTACH;FMTTYPE=image/jpeg:https://www.blunterbrothers.co.uk/wp-content/uploads/2016/01/lescargot-Big-G-promo-small.jpg
END:VEVENT
BEGIN:VEVENT
DTSTART;TZID=Europe/London:20180513T113000
DTEND;TZID=Europe/London:20180513T140000
DTSTAMP:20260421T105654
CREATED:20180416T234017Z
LAST-MODIFIED:20180416T234603Z
UID:718-1526211000-1526220000@www.blunterbrothers.co.uk
SUMMARY:L’escargots Trois at Trading Boundaries
DESCRIPTION:L’escargots Trois play Jazz and Easy Listening at Trading Boundaries Sunday 13th May. 11.30am – 2.00pm. Free Entry. Great Sunday Brunch menu and friendly atmosphere!
URL:https://www.blunterbrothers.co.uk/event/lescargots-trois-at-trading-boundaries/
LOCATION:Trading Boundaries\, Shefield Green\, TN22 3RB\, United Kingdom
ATTACH;FMTTYPE=image/jpeg:https://www.blunterbrothers.co.uk/wp-content/uploads/2016/01/lescargot-Big-G-promo-small.jpg
END:VEVENT
BEGIN:VEVENT
DTSTART;TZID=Europe/London:20180422T080000
DTEND;TZID=Europe/London:20180422T170000
DTSTAMP:20260421T105654
CREATED:20180416T235119Z
LAST-MODIFIED:20180416T235119Z
UID:724-1524384000-1524416400@www.blunterbrothers.co.uk
SUMMARY:L’escargots Trois at Trading Boundaries
DESCRIPTION:L’escargots Trois play Jazz and Easy Listening at Trading Boundaries Sunday 22nd April. 11.30am – 2.00pm. Free Entry. Great Sunday Brunch menu and friendly atmosphere!
URL:https://www.blunterbrothers.co.uk/event/lescargots-trois-at-trading-boundaries-2/
ATTACH;FMTTYPE=image/jpeg:https://www.blunterbrothers.co.uk/wp-content/uploads/2016/01/lescargot-Big-G-promo-small.jpg
END:VEVENT
BEGIN:VEVENT
DTSTART;TZID=Europe/London:20180302T190000
DTEND;TZID=Europe/London:20180302T230000
DTSTAMP:20260421T105654
CREATED:20180113T203800Z
LAST-MODIFIED:20180113T203800Z
UID:699-1520017200-1520031600@www.blunterbrothers.co.uk
SUMMARY:Blunter Brothers at Horsham Sports Club
DESCRIPTION:The Blunter Brothers return to Horsham Sports Club for another fantastic night of Classic Funk\, Motown & Soul! Stevie Wonder\, James Brown\, E\,W&F\, Prince\, Ray Charles\, Curtis Mayfield\, even Bruno Mars and many more. Always sells out so get your tickets Early. Available on the door at £10 pp or on line with a small booking fee https://blunterbrothershsc3.eventbrite.co.uk \nDoors open Early!
URL:https://www.blunterbrothers.co.uk/event/blunter-brothers-horsham-sports-club-5/
LOCATION:Horsham Sports Club\, Cricketfield Road\, Horsham\, RH12 1TE\, United Kingdom
ATTACH;FMTTYPE=image/jpeg:https://www.blunterbrothers.co.uk/wp-content/uploads/2018/01/Poster-Horsham-Sports-2018.jpg
END:VEVENT
BEGIN:VEVENT
DTSTART;TZID=Europe/London:20180217T193000
DTEND;TZID=Europe/London:20180218T010000
DTSTAMP:20260421T105654
CREATED:20180113T194737Z
LAST-MODIFIED:20180113T194737Z
UID:691-1518895800-1518915600@www.blunterbrothers.co.uk
SUMMARY:Blunter Brothers at Crowne Plaza Felbridge
DESCRIPTION:Back by popular demand. This great venue is always a sell out for the Blunter Brothers so book your tickets early! Tickets £24.50 Call 01342 337700 or visit their web site. Includes a glass of Prosecco on arrival. \nhttp://www.cpfelbridgehotel.co.uk/events-calendar/blunter-brothers/
URL:https://www.blunterbrothers.co.uk/event/blunter-brothers-crowne-plaza-felbridge-2/
LOCATION:Crowne Plaza Felbridge\, London Rd\,\, East Grinstead\, West Sussex\, RH19 2BH\, United Kingdom
ATTACH;FMTTYPE=image/jpeg:https://www.blunterbrothers.co.uk/wp-content/uploads/2018/01/poster-Felbridge-2018.jpg
END:VEVENT
BEGIN:VEVENT
DTSTART;TZID=Europe/London:20180211T113000
DTEND;TZID=Europe/London:20180211T140000
DTSTAMP:20260421T105654
CREATED:20180113T200930Z
LAST-MODIFIED:20180113T200930Z
UID:697-1518348600-1518357600@www.blunterbrothers.co.uk
SUMMARY:L'escargots Trois at Trading Boundaries
DESCRIPTION:L’escargots Trois play Jazz and Easy Listening at Trading Boundaries Sunday 11th Feb. 11.30am – 2.00pm. Free Entry. Great Sunday Brunch menu and friendly atmosphere!
URL:https://www.blunterbrothers.co.uk/event/lescargots-trois-trading-boundaries-17/
LOCATION:Trading Boundaries\, Shefield Green\, TN22 3RB\, United Kingdom
ATTACH;FMTTYPE=image/jpeg:https://www.blunterbrothers.co.uk/wp-content/uploads/2016/01/lescargot-Big-G-promo-small.jpg
END:VEVENT
BEGIN:VEVENT
DTSTART;TZID=Europe/London:20180121T113000
DTEND;TZID=Europe/London:20180121T140000
DTSTAMP:20260421T105654
CREATED:20180113T193507Z
LAST-MODIFIED:20180113T193507Z
UID:689-1516534200-1516543200@www.blunterbrothers.co.uk
SUMMARY:L'escargots Trois at Trading Boundaries
DESCRIPTION:L’escargots Trois play Jazz and Easy Listening at Trading Boundaries Sunday 21st Jan. 11.30am – 2.00pm. Free Entry. Great Sunday Brunch menu and friendly atmosphere!
URL:https://www.blunterbrothers.co.uk/event/lescargots-trois-trading-boundaries-16/
LOCATION:Trading Boundaries\, Shefield Green\, TN22 3RB\, United Kingdom
ATTACH;FMTTYPE=image/jpeg:https://www.blunterbrothers.co.uk/wp-content/uploads/2016/01/lescargot-Big-G-promo-small.jpg
END:VEVENT
BEGIN:VEVENT
DTSTART;TZID=Europe/London:20171103T080000
DTEND;TZID=Europe/London:20171104T000000
DTSTAMP:20260421T105654
CREATED:20170920T150916Z
LAST-MODIFIED:20170920T152430Z
UID:663-1509696000-1509753600@www.blunterbrothers.co.uk
SUMMARY:Blunter Brothers at Horsham Sports Club
DESCRIPTION:The Blunter Brothers return to Horsham Sports Club for another fantastic night of Classic Funk\, Motown & Soul! \nStevie Wonder\, James Brown\, E\,W&F\, Prince\, Ray Charles\, Curtis Mayfield\, even Bruno Mars and many more. \nAlways sells out so get your tickets Early. Available on the door at £10 pp or on line with a small booking fee (£1.21) https://blunterbrothershsc2.eventbrite.co.uk
URL:https://www.blunterbrothers.co.uk/event/blunter-brothers-horsham-sports-club-4/
LOCATION:Horsham Sports Club\, Cricketfield Road\, Horsham\, RH12 1TE\, United Kingdom
ATTACH;FMTTYPE=image/jpeg:https://www.blunterbrothers.co.uk/wp-content/uploads/2017/09/Poster-HSC-N-2017.jpg
END:VEVENT
BEGIN:VEVENT
DTSTART;TZID=Europe/London:20171020T193000
DTEND;TZID=Europe/London:20171021T010000
DTSTAMP:20260421T105654
CREATED:20170807T013548Z
LAST-MODIFIED:20170807T013548Z
UID:624-1508527800-1508547600@www.blunterbrothers.co.uk
SUMMARY:Blunter Brothers at the Crowne Plaza Felbridge
DESCRIPTION:Back by popular demand. This great venue is always a sell out for the Blunter Brothers so book your tickets early! \nTickets £23.50 Call 01342 337700 or visit their web site. \nIncludes a glass of Prosecco on arrival.
URL:https://www.blunterbrothers.co.uk/event/blunter-brothers-crowne-plaza-felbridge/
LOCATION:Crowne Plaza Felbridge\, London Rd\,\, East Grinstead\, West Sussex\, RH19 2BH\, United Kingdom
ATTACH;FMTTYPE=image/jpeg:https://www.blunterbrothers.co.uk/wp-content/uploads/2017/08/poster-Felbridge-2017.jpg
END:VEVENT
BEGIN:VEVENT
DTSTART;TZID=Europe/London:20171014T203000
DTEND;TZID=Europe/London:20171015T000000
DTSTAMP:20260421T105654
CREATED:20170806T233258Z
LAST-MODIFIED:20170806T233258Z
UID:619-1508013000-1508025600@www.blunterbrothers.co.uk
SUMMARY:Blunter Brothers at Forest Row Social Club
DESCRIPTION:Pleased to be invited back. Great club\, great bar prices. Tickets £12.50 on the door\, £10 members. \nSupporting Macmillan Nurses and Children with cancer fund. \nTickets available from the club. Call 01342 822856 \nGet there early! Doors 8.30pm – 12.00 midnight
URL:https://www.blunterbrothers.co.uk/event/blunter-brothers-forest-row-social-club-2/
LOCATION:Forest Row Social Club\, Station Road\, Forest Row\, East Sussex\, RH18 5DW\, United Kingdom
ATTACH;FMTTYPE=image/jpeg:https://www.blunterbrothers.co.uk/wp-content/uploads/2017/08/Forest-Row-2017-.jpg
END:VEVENT
BEGIN:VEVENT
DTSTART;TZID=Europe/London:20170924T113000
DTEND;TZID=Europe/London:20170924T140000
DTSTAMP:20260421T105654
CREATED:20170806T231429Z
LAST-MODIFIED:20170806T231429Z
UID:617-1506252600-1506261600@www.blunterbrothers.co.uk
SUMMARY:L'escargots Trois at Trading Boundaries
DESCRIPTION:L’escargots Trois play Jazz and Easy Listening at Trading Boundaries Sunday 24th Sept. 11.30am – 2.00pm. Free Entry. Great Sunday Brunch menu and friendly atmosphere!
URL:https://www.blunterbrothers.co.uk/event/lescargots-trois-trading-boundaries-15/
LOCATION:Trading Boundaries\, Shefield Green\, TN22 3RB\, United Kingdom
ATTACH;FMTTYPE=image/jpeg:https://www.blunterbrothers.co.uk/wp-content/uploads/2016/01/lescargot-Big-G-promo-small.jpg
END:VEVENT
BEGIN:VEVENT
DTSTART;TZID=Europe/London:20170923T200000
DTEND;TZID=Europe/London:20170924T000000
DTSTAMP:20260421T105654
CREATED:20170806T231025Z
LAST-MODIFIED:20170806T231025Z
UID:615-1506196800-1506211200@www.blunterbrothers.co.uk
SUMMARY:Blunter Brothers at Ravenswood Inn
DESCRIPTION:Back at our ‘local’. Details to follow soon!
URL:https://www.blunterbrothers.co.uk/event/blunter-brothers-ravenswood-inn/
LOCATION:Ravenswood Inn\, Horsted Lane\, Sharpthorne\, RH19 4HY\, United Kingdom
ATTACH;FMTTYPE=image/jpeg:https://www.blunterbrothers.co.uk/wp-content/uploads/2015/12/Blunter-Brothers-2014-c.jpg
END:VEVENT
BEGIN:VEVENT
DTSTART;TZID=Europe/London:20170910T113000
DTEND;TZID=Europe/London:20170910T140000
DTSTAMP:20260421T105654
CREATED:20170806T230447Z
LAST-MODIFIED:20170806T230447Z
UID:613-1505043000-1505052000@www.blunterbrothers.co.uk
SUMMARY:L'escargots Trois at Trading Boundaries
DESCRIPTION:L’escargots Trois play Jazz and Easy Listening at Trading Boundaries Sunday 10th Sept. 11.30am – 2.00pm. Free Entry. Great Sunday Brunch menu and friendly atmosphere!
URL:https://www.blunterbrothers.co.uk/event/lescargots-trois-trading-boundaries-14/
LOCATION:Trading Boundaries\, Shefield Green\, TN22 3RB\, United Kingdom
ATTACH;FMTTYPE=image/jpeg:https://www.blunterbrothers.co.uk/wp-content/uploads/2016/01/lescargot-Big-G-promo-small.jpg
END:VEVENT
BEGIN:VEVENT
DTSTART;TZID=Europe/London:20170820T113000
DTEND;TZID=Europe/London:20170820T140000
DTSTAMP:20260421T105654
CREATED:20170806T230103Z
LAST-MODIFIED:20170806T230103Z
UID:611-1503228600-1503237600@www.blunterbrothers.co.uk
SUMMARY:L'escargots Trois at Trading Boundaries
DESCRIPTION:L’escargots Trois play Jazz and Easy Listening at Trading Boundaries Sunday 20th August. 11.30am – 2.00pm. Free Entry. Great Sunday Brunch menu and friendly atmosphere!
URL:https://www.blunterbrothers.co.uk/event/lescargots-trois-trading-boundaries-13/
LOCATION:Trading Boundaries\, Shefield Green\, TN22 3RB\, United Kingdom
ATTACH;FMTTYPE=image/jpeg:https://www.blunterbrothers.co.uk/wp-content/uploads/2016/01/lescargot-Big-G-promo-small.jpg
END:VEVENT
BEGIN:VEVENT
DTSTART;TZID=Europe/London:20170813T140000
DTEND;TZID=Europe/London:20170813T180000
DTSTAMP:20260421T105654
CREATED:20170806T225155Z
LAST-MODIFIED:20170806T225156Z
UID:608-1502632800-1502647200@www.blunterbrothers.co.uk
SUMMARY:BB Horns at Horsham Sports Club
DESCRIPTION:The BB Horns play at this fund raising event on Sunday 13th August at Horsham Sports Club. 2pm til 6pm. Two other acts playing as well so it’s great value for money and a fantastic cause. Please get your tickets and help us help Verity. Available from Horsham Sports Club\, The Malt Shovel\, Sussex Soundhouse\, Beer Essentials\, Brindle Electronics at £10 each or online at https://gigforverity.eventbrite.co.uk (£11.21 on-line) \n2% Jazz 98% Funky Stuff
URL:https://www.blunterbrothers.co.uk/event/bb-horns-horsham-sports-club/
LOCATION:Horsham Sports Club\, Cricketfield Road\, Horsham\, RH12 1TE\, United Kingdom
ATTACH;FMTTYPE=image/jpeg:https://www.blunterbrothers.co.uk/wp-content/uploads/2017/08/verity-2017a.jpg
END:VEVENT
BEGIN:VEVENT
DTSTART;TZID=Europe/London:20170715T193000
DTEND;TZID=Europe/London:20170715T223000
DTSTAMP:20260421T105654
CREATED:20170629T114636Z
LAST-MODIFIED:20170629T114636Z
UID:599-1500147000-1500157800@www.blunterbrothers.co.uk
SUMMARY:Blunter Brothers at Chequer Mead in aid of Parkinson's UK
DESCRIPTION:Featuring the irrepressible Mark Keen on lead vocal and supporting Parkinson’s UK. A great cause that deserves our full support. Please help us to Sell Out! Classic Funk and Soul and a little Bruno Mars too!! \nTickets £15\, £12.50 cons available from Box office 01342 302000 or on line www.chequermead.org.uk
URL:https://www.blunterbrothers.co.uk/event/blunter-brothers-chequer-mead-aid-parkinsons-uk/
LOCATION:Chequer Mead Theatre\, De La Warr Road\, East Grinstead\, West Sussex\, RH19 3BS\, United Kingdom
ATTACH;FMTTYPE=image/jpeg:https://www.blunterbrothers.co.uk/wp-content/uploads/2017/06/Poster-Chequer-Mead-2017.jpg
END:VEVENT
BEGIN:VEVENT
DTSTART;TZID=Europe/London:20170624T150000
DTEND;TZID=Europe/London:20170624T220000
DTSTAMP:20260421T105654
CREATED:20170330T220422Z
LAST-MODIFIED:20170330T220422Z
UID:574-1498316400-1498341600@www.blunterbrothers.co.uk
SUMMARY:The Big Gig - Horsham Sports Club
DESCRIPTION:The Blunter Brothers have been invited to the Big Gig. \nEarly Bird Tickets are selling fast to The Big Gig 17\, Horsham’s very own one-day live music festival! Grab yours now for only £15.00 plus children under 10 go free! Get your tickets here:  \nSUPPORTING LIVE MUSIC
URL:https://www.blunterbrothers.co.uk/event/big-gig-horsham-sports-club/
LOCATION:Horsham Sports Club\, Cricketfield Road\, Horsham\, RH12 1TE\, United Kingdom
ATTACH;FMTTYPE=image/jpeg:https://www.blunterbrothers.co.uk/wp-content/uploads/2017/03/The-Big-Gig.jpg
END:VEVENT
BEGIN:VEVENT
DTSTART;TZID=Europe/London:20170617T193000
DTEND;TZID=Europe/London:20170618T010000
DTSTAMP:20260421T105654
CREATED:20170420T181248Z
LAST-MODIFIED:20170420T181248Z
UID:580-1497727800-1497747600@www.blunterbrothers.co.uk
SUMMARY:Blunter Brothers at the Eyeconic Ball
DESCRIPTION:The Blunter Brothers have been invited to play the  EYECONIC BALL – in aid of Southlands new Ophthalmology centre of excellence that will be opening in June with the latest technology in eye care. The Grand Hotel Brighton. Tickets available on line here: \nhttps://eyeconicball.eventbrite.co.uk \nEverything is now in place for an amazing evening of fundraising and dancing!
URL:https://www.blunterbrothers.co.uk/event/blunter-brothers-eyeconic-ball/
LOCATION:The Grand Hotel Brighton\, 97-99 King's Road \, Brighton\, East Sussex\, BN1 2FW\, United Kingdom
ATTACH;FMTTYPE=image/jpeg:https://www.blunterbrothers.co.uk/wp-content/uploads/2017/04/Love-Your-Hospital.jpg
END:VEVENT
BEGIN:VEVENT
DTSTART;TZID=Europe/London:20170603T200000
DTEND;TZID=Europe/London:20170603T235500
DTSTAMP:20260421T105654
CREATED:20170420T182040Z
LAST-MODIFIED:20170420T182040Z
UID:585-1496520000-1496534100@www.blunterbrothers.co.uk
SUMMARY:The Blunter Brothers at the Ravenswood Reunion
DESCRIPTION:With the Ravenswood coming under new management we want to take this opportunity to wish Steve Mcarthur all the very best. We’re also very pleased to announce what’s being billed as the Blunter Brother’s Ravenswood Reunion\, A special gig on Saturday 3rd June. Tickets £10 on the door or available on line here: https://bbravenswood.eventbrite.co.uk \n Small admin fee (£1.21) for tickets bought on line. \nThere’s even a free glass of Pimm’s for the first 50 tickets!
URL:https://www.blunterbrothers.co.uk/event/blunter-brothers-ravenswood-reunion/
LOCATION:Ravenswood Inn\, Horsted Lane\, Sharpthorne\, RH19 4HY\, United Kingdom
ATTACH;FMTTYPE=image/jpeg:https://www.blunterbrothers.co.uk/wp-content/uploads/2017/04/poster-Rav-2017.jpg
END:VEVENT
BEGIN:VEVENT
DTSTART;TZID=Europe/London:20170402T113000
DTEND;TZID=Europe/London:20170402T140000
DTSTAMP:20260421T105654
CREATED:20170221T110427Z
LAST-MODIFIED:20170221T110427Z
UID:551-1491132600-1491141600@www.blunterbrothers.co.uk
SUMMARY:L'escargots Trois at Trading Boundaries
DESCRIPTION:L’escargots Trois play Jazz and Easy Listening at Trading Boundaries Sunday 2nd April. 11.30am – 2.00pm. Free Entry. Great Sunday Brunch menu and friendly atmosphere!
URL:https://www.blunterbrothers.co.uk/event/lescargots-trois-trading-boundaries-12/
LOCATION:Trading Boundaries\, Shefield Green\, TN22 3RB\, United Kingdom
ATTACH;FMTTYPE=image/jpeg:https://www.blunterbrothers.co.uk/wp-content/uploads/2016/01/lescargot-Big-G-promo-small.jpg
END:VEVENT
BEGIN:VEVENT
DTSTART;TZID=Europe/London:20170310T200000
DTEND;TZID=Europe/London:20170310T235500
DTSTAMP:20260421T105654
CREATED:20170221T111358Z
LAST-MODIFIED:20170221T111358Z
UID:553-1489176000-1489190100@www.blunterbrothers.co.uk
SUMMARY:Blunter Brothers at Horsham Sports Club
DESCRIPTION:The Blunter Brothers back at Horsham Sports Club. Our ‘2nd Home’ and always a sell out! Get your tickets early. Call the box office on 01403 254628 or buy online here: https://blunterbrothershsc.eventbrite.co.uk  \nSmall booking fee applies to tickets bought from eventbrite (£1.21) \nIt’s got to be FUNKY!
URL:https://www.blunterbrothers.co.uk/event/blunter-brothers-horsham-sports-club-3/
LOCATION:Horsham Sports Club\, Cricketfield Road\, Horsham\, RH12 1TE\, United Kingdom
ATTACH;FMTTYPE=image/jpeg:https://www.blunterbrothers.co.uk/wp-content/uploads/2017/02/Poster-HSC-M-2017.jpg
END:VEVENT
BEGIN:VEVENT
DTSTART;TZID=Europe/London:20170305T113000
DTEND;TZID=Europe/London:20170305T140000
DTSTAMP:20260421T105654
CREATED:20170221T110056Z
LAST-MODIFIED:20170221T110056Z
UID:549-1488713400-1488722400@www.blunterbrothers.co.uk
SUMMARY:L'escargots Trois at Trading Boundaries
DESCRIPTION:L’escargots Trois play Jazz and Easy Listening at Trading Boundaries Sunday 5th March. 11.30am – 2.00pm. Free Entry. Great Sunday Brunch menu and friendly atmosphere!
URL:https://www.blunterbrothers.co.uk/event/lescargots-trois-trading-boundaries-11/
LOCATION:Trading Boundaries\, Shefield Green\, TN22 3RB\, United Kingdom
ATTACH;FMTTYPE=image/jpeg:https://www.blunterbrothers.co.uk/wp-content/uploads/2016/01/lescargot-Big-G-promo-small.jpg
END:VEVENT
BEGIN:VEVENT
DTSTART;TZID=Europe/London:20170114T193000
DTEND;TZID=Europe/London:20170114T193000
DTSTAMP:20260421T105654
CREATED:20161125T121837Z
LAST-MODIFIED:20161125T121837Z
UID:515-1484422200-1484422200@www.blunterbrothers.co.uk
SUMMARY:Blunter Brothers Charity Gala
DESCRIPTION:A Charity event for someone close to our hearts. If you only come to one gig in 2017\, please make it this one. Thanks
URL:https://www.blunterbrothers.co.uk/event/blunter-brothers-charity-gala/
LOCATION:The Dome\, 22 Marine Parade\, Worthing\, West Sussex\, BN11 3PT\, United Kingdom
ATTACH;FMTTYPE=image/jpeg:https://www.blunterbrothers.co.uk/wp-content/uploads/2016/11/poster-Lottie-2017d.jpg
END:VEVENT
END:VCALENDAR